BEGIN:VCALENDAR
VERSION:2.0
PRODID:-//Santa Clarita Veteran Services Collaborative - ECPv6.15.17.1//NONSGML v1.0//EN
CALSCALE:GREGORIAN
METHOD:PUBLISH
X-WR-CALNAME:Santa Clarita Veteran Services Collaborative
X-ORIGINAL-URL:https://www.scv-vets.org
X-WR-CALDESC:Events for Santa Clarita Veteran Services Collaborative
REFRESH-INTERVAL;VALUE=DURATION:PT1H
X-Robots-Tag:noindex
X-PUBLISHED-TTL:PT1H
BEGIN:VTIMEZONE
TZID:America/Los_Angeles
BEGIN:DAYLIGHT
TZOFFSETFROM:-0800
TZOFFSETTO:-0700
TZNAME:PDT
DTSTART:20230312T100000
END:DAYLIGHT
BEGIN:STANDARD
TZOFFSETFROM:-0700
TZOFFSETTO:-0800
TZNAME:PST
DTSTART:20231105T090000
END:STANDARD
BEGIN:DAYLIGHT
TZOFFSETFROM:-0800
TZOFFSETTO:-0700
TZNAME:PDT
DTSTART:20240310T100000
END:DAYLIGHT
BEGIN:STANDARD
TZOFFSETFROM:-0700
TZOFFSETTO:-0800
TZNAME:PST
DTSTART:20241103T090000
END:STANDARD
BEGIN:DAYLIGHT
TZOFFSETFROM:-0800
TZOFFSETTO:-0700
TZNAME:PDT
DTSTART:20250309T100000
END:DAYLIGHT
BEGIN:STANDARD
TZOFFSETFROM:-0700
TZOFFSETTO:-0800
TZNAME:PST
DTSTART:20251102T090000
END:STANDARD
END:VTIMEZONE
BEGIN:VEVENT
DTSTART;TZID=America/Los_Angeles:20240614T100000
DTEND;TZID=America/Los_Angeles:20240614T140000
DTSTAMP:20260424T141231
CREATED:20240613T173700Z
LAST-MODIFIED:20240613T173700Z
UID:1285-1718359200-1718373600@www.scv-vets.org
SUMMARY:My Angel Leasing Fair
DESCRIPTION:
URL:https://www.scv-vets.org/event/my-angel-leasing-fair/
LOCATION:My Angel Apartments\, 8547 N Sepulveda Blvd\, North Hills\, CA\, 91343\, United States
CATEGORIES:Employment Related
END:VEVENT
BEGIN:VEVENT
DTSTART;TZID=America/Los_Angeles:20240614T100000
DTEND;TZID=America/Los_Angeles:20240614T150000
DTSTAMP:20260424T141231
CREATED:20240514T162858Z
LAST-MODIFIED:20240514T162950Z
UID:1254-1718359200-1718377200@www.scv-vets.org
SUMMARY:United Chambers Job Fair
DESCRIPTION:
URL:https://www.scv-vets.org/event/united-chambers-job-fair/
LOCATION:Shepherd Church\, 19700 Rinaldi St\, Porter Ranch\, 91326\, United States
CATEGORIES:Employment Related
END:VEVENT
END:VCALENDAR